BEGIN:VCALENDAR
VERSION:2.0
PRODID:-//Geneva Dialogue - ECPv6.15.20//NONSGML v1.0//EN
CALSCALE:GREGORIAN
METHOD:PUBLISH
X-WR-CALNAME:Geneva Dialogue
X-ORIGINAL-URL:https://genevadialogue.ch
X-WR-CALDESC:Events for Geneva Dialogue
REFRESH-INTERVAL;VALUE=DURATION:PT1H
X-Robots-Tag:noindex
X-PUBLISHED-TTL:PT1H
BEGIN:VTIMEZONE
TZID:Europe/Zurich
BEGIN:DAYLIGHT
TZOFFSETFROM:+0100
TZOFFSETTO:+0200
TZNAME:CEST
DTSTART:20240331T010000
END:DAYLIGHT
BEGIN:STANDARD
TZOFFSETFROM:+0200
TZOFFSETTO:+0100
TZNAME:CET
DTSTART:20241027T010000
END:STANDARD
BEGIN:DAYLIGHT
TZOFFSETFROM:+0100
TZOFFSETTO:+0200
TZNAME:CEST
DTSTART:20250330T010000
END:DAYLIGHT
BEGIN:STANDARD
TZOFFSETFROM:+0200
TZOFFSETTO:+0100
TZNAME:CET
DTSTART:20251026T010000
END:STANDARD
BEGIN:DAYLIGHT
TZOFFSETFROM:+0100
TZOFFSETTO:+0200
TZNAME:CEST
DTSTART:20260329T010000
END:DAYLIGHT
BEGIN:STANDARD
TZOFFSETFROM:+0200
TZOFFSETTO:+0100
TZNAME:CET
DTSTART:20261025T010000
END:STANDARD
END:VTIMEZONE
BEGIN:VEVENT
DTSTART;TZID=Europe/Zurich:20250514T141500
DTEND;TZID=Europe/Zurich:20250514T154500
DTSTAMP:20260422T152933
CREATED:20250423T091347Z
LAST-MODIFIED:20250519T105039Z
UID:2621-1747232100-1747237500@genevadialogue.ch
SUMMARY:From words to protection – how do cyber norms guide security of critical infrastructure? Announcing Chapter II of the Geneva Manual
DESCRIPTION:From energy grids to hospital networks\, the systems that sustain our lives are constantly under increasing pressure. As threats evolve\, so must our defences – not just in code and hardware\, but in principles and responsibility. \nStates have agreed on a global framework for responsible state behaviour in cyberspace. However\, agreements alone do not protect critical infrastructure. It’s time to ask the question: how do these norms move from paper to practice? Who ensures that they are upheld\, not just by governments\, but by the operators\, engineers\, developers\, and researchers behind the world’s most essential systems? \nThe session titled “From words to protection – how do cyber norms guide security of critical infrastructure?” took place on 14 May 2025 in Geneva\, as part of the Global Conference on Cyber Capacity Building (GC3B) organised by the Global Forum on Cyber Expertise (GFCE). This session marked the launch of Chapter II of the Geneva Manual – a milestone in defining what the UN cyber norms mean for real-world protection of critical infrastructure. Built through the Geneva Dialogue’s global community of experts\, this new chapter provides practical guidance for non-state stakeholders navigating a shared\, high-stakes digital environment\, and highlights challenges\, including for states. \nOrganised by the Geneva Dialogue on Responsible Behaviour in Cyberspace\, the session discussed these questions in a multistakeholder approach\, engaging representatives from the private sector\, academia\, civil society\, and technical community. Established by Switzerland in 2018 and implemented by DiploFoundation with support of the Republic and State of Geneva\, C4DT\, Swisscom\, and UBS\, the Dialogue maps the roles and responsibilities of various actors in the implementation of agreed cyber norms and confidence-building measures (CBMs)\, and thus contributes to stability and security in cyberspace. The Geneva Dialogue is a global process which engages over 69 organisations and experts representing different stakeholder groups from all over the world. \nThis session provided a unique opportunity for participants to engage with leading voices in cybersecurity and cyber diplomacy\, explore best practices for the protection of critical infrastructure (CI)\, and contribute to shaping the future of global cybersecurity governance. Ambassador Benedikt Wechsler\, Head of the Digital Division at the Swiss Federal Department of Foreign Affairs\, opened the session by reaffirming Switzerland’s commitment to an open\, stable\, and secure cyberspace\, as well as the importance of a multistakeholder approach to implementing the agreed framework for responsible state behaviour. He expressed appreciation to all contributors for their continued engagement in the Geneva Dialogue and their efforts to advance the understanding of how cyber norms and CBMs can enhance CI protection. \n \nAmbassador Burhan Gafoor\, Singapore’s Permanent Representative to the UN and Chair of the UN Open-Ended Working Group (OEWG)\, offered insights ahead of the OEWG’s concluding session under the 2021–2025 mandate. Returning for the second time to announce the next chapter of the Geneva Manual\, he emphasized the value of multilateral cooperation and inclusive dialogue\, highlighting the importance of integrating perspectives from across sectors to ensure a secure and resilient digital environment. \n \nThe session also featured an interactive segment\, inviting participants to reflect on practical actions inspired by the Geneva Manual. Insights from the group work during the “Cyber Quest“ exercise sparked thoughtful discussion\, moderated by Emmanuella Darkwah\, Senior Manager for International Cooperation at Ghana’s Cyber Security Authority. Two expert commentators joined the conversation: Christina Rupp\, Senior Policy Researcher at interface\, presented a comprehensive analysis of the EU cybersecurity policy ecosystem\, highlighting potential governance models for CI protection; and Xiang Zheng Teo\, Vice President of Advisory at Ensign InfoSecurity\, spoke on the implementation side of cybersecurity\, stressing the importance of threat-informed defense strategies and the private sector’s role in national cyber resilience. \n \n \n \n \n \nThe session concluded by underscoring the pressing need for cross-sectoral and international collaboration to address the complex challenges facing global cybersecurity. Participants are warmly invited to continue contributing to the dialogue at genevadialogue.ch and stay informed about future updates and initiatives.
URL:https://genevadialogue.ch/event/announcing-second-chapter/
LOCATION:Room 14\, International Conference Centre Geneva\, Rue de Varembé 17\, 1211 Genève\, Switzerland
ATTACH;FMTTYPE=image/jpeg:https://genevadialogue.ch/wp-content/uploads/Geneva-Dialogue_Announcing-Chapter-II-GM-2025.jpg
END:VEVENT
BEGIN:VEVENT
DTSTART;VALUE=DATE:20250523
DTEND;VALUE=DATE:20250529
DTSTAMP:20260422T152933
CREATED:20250610T132106Z
LAST-MODIFIED:20250610T132151Z
UID:2656-1747958400-1748476799@genevadialogue.ch
SUMMARY:Geneva Dialogue at the African School of Internet Governance (AfriSIG)
DESCRIPTION:The African School of Internet Governance is a regular pre-event training that takes place before the African IGF to create awareness and build practical skills in Internet\, ICT and Data Governance for civil society\, the public and private sectors. This year it was held in Dar Es Salaam\, Tanzania from 23 to 28 May\, 2025 and was attended by a wide variety of international and African stakeholders. \n \nDr Katherine Getao represented the DiploFoundation at the event and delivered a presentation titled “Cybersecurity and Cybercrime in Africa: Challenges and Opportunities.” In her remarks\, she highlighted the rapid growth and penetration of digital technologies across Africa\, underscoring the urgent need for robust cybersecurity measures and effective responses to the increasing risks of cybercrime. She further noted that these challenges also create opportunities—particularly in promoting youth employment and fostering dynamic businesses offering cybersecurity services. \n \nDr Getao emphasised the importance of African engagement in global policy processes\, such as the Geneva Dialogue\, which offer platforms for African stakeholders to engage with emerging issues\, contribute regional perspectives\, and help shape international policies to reflect the continent’s digital realities. \n \nPreviously\, Dr Getao served as Kenya’s representative to the United Nations Group of Governmental Experts (UNGGE) on Developments in the Field of Information and Telecommunications in the Context of International Security\, contributing to the negotiation of the UN norms for responsible State behaviour in cyberspace. \n \nShe also participated in a dynamic panel discussion on how the Internet Governance Forum (IGF) can be leveraged to advance African priorities. The African School on Internet Governance proved to be a valuable space for promoting the objectives of both the DiploFoundation and the Geneva Dialogue.
URL:https://genevadialogue.ch/event/geneva-dialogue-at-the-african-school-of-internet-governance-afrisig/
LOCATION:Es Salaam\, Tanzania\, United Republic of
ATTACH;FMTTYPE=image/jpeg:https://genevadialogue.ch/wp-content/uploads/AfriSIG.jpg
END:VEVENT
BEGIN:VEVENT
DTSTART;VALUE=DATE:20250527
DTEND;VALUE=DATE:20250529
DTSTAMP:20260422T152933
CREATED:20250606T125741Z
LAST-MODIFIED:20250606T143316Z
UID:2647-1748304000-1748476799@genevadialogue.ch
SUMMARY:Geneva Dialogue at the OSCE Cross-regional Conference on Cyber/ICT Security
DESCRIPTION:The two-day workshop examined the nexus between CBMs and cyber norms\, with a specific focus on identifying commonalities in their implementation. The Geneva Dialogue on Responsible Behaviour in Cyberspace was presented and further discussed as an example of good practice during the session on a multistakeholder approach to cyberspace. \nThrough expert-led discussions\, the event showcased national and regional strategies and challenges\, highlighting areas of possible future joint efforts. The conference was organized for policy-makers active in the field of international cybersecurity\, particularly national representatives involved in cyber diplomacy negotiations.
URL:https://genevadialogue.ch/event/geneva-dialogue-at-the-osce-cross-regional-conference-on-cyber-ict-security/
LOCATION:Ulaanbaatar\, Mongolia
ATTACH;FMTTYPE=image/jpeg:https://genevadialogue.ch/wp-content/uploads/osce.jpg
END:VEVENT
END:VCALENDAR