BEGIN:VCALENDAR
VERSION:2.0
PRODID:-//Geneva Dialogue - ECPv6.15.20//NONSGML v1.0//EN
CALSCALE:GREGORIAN
METHOD:PUBLISH
X-ORIGINAL-URL:https://genevadialogue.ch
X-WR-CALDESC:Events for Geneva Dialogue
REFRESH-INTERVAL;VALUE=DURATION:PT1H
X-Robots-Tag:noindex
X-PUBLISHED-TTL:PT1H
BEGIN:VTIMEZONE
TZID:Europe/Zurich
BEGIN:DAYLIGHT
TZOFFSETFROM:+0100
TZOFFSETTO:+0200
TZNAME:CEST
DTSTART:20240331T010000
END:DAYLIGHT
BEGIN:STANDARD
TZOFFSETFROM:+0200
TZOFFSETTO:+0100
TZNAME:CET
DTSTART:20241027T010000
END:STANDARD
BEGIN:DAYLIGHT
TZOFFSETFROM:+0100
TZOFFSETTO:+0200
TZNAME:CEST
DTSTART:20250330T010000
END:DAYLIGHT
BEGIN:STANDARD
TZOFFSETFROM:+0200
TZOFFSETTO:+0100
TZNAME:CET
DTSTART:20251026T010000
END:STANDARD
BEGIN:DAYLIGHT
TZOFFSETFROM:+0100
TZOFFSETTO:+0200
TZNAME:CEST
DTSTART:20260329T010000
END:DAYLIGHT
BEGIN:STANDARD
TZOFFSETFROM:+0200
TZOFFSETTO:+0100
TZNAME:CET
DTSTART:20261025T010000
END:STANDARD
END:VTIMEZONE
BEGIN:VEVENT
DTSTART;TZID=Europe/Zurich:20250702T105000
DTEND;TZID=Europe/Zurich:20250702T115000
DTSTAMP:20260422T180341
CREATED:20250702T134224Z
LAST-MODIFIED:20250702T134224Z
UID:2673-1751453400-1751457000@genevadialogue.ch
SUMMARY:Geneva Dialogue session at the Global Digital Collaboration Conference (GDCC 2025)
DESCRIPTION:Organised by the C4DT-EPFL\, Swiss Federal Department of Foreign Affairs (FDFA) and  DiploFoundation\, the session brought together representatives from government\, industry\, and academia for an open discussion on the evolving relevance of cyber norms and the rules-based international order in safeguarding critical infrastructure. While states have endorsed norms for responsible state behaviour in cyberspace\, the discussion highlighted persistent challenges in their implementation. \nSerge Droz (Swiss FDFA)\, Roman Zhukov (RedHat)\, and Imad Aad (C4DT-EPFL) noted that states often lack effective mechanisms to operationalise norms and confidence-building measures (CBMs)\, placing disproportionate responsibility on the private sector\, which owns and operates much of the infrastructure. The gap between commitments and practice—particularly evident in ongoing malicious cyber activities—raised concerns about accountability\, especially in the context of armed conflict where roles can quickly shift. \nThe panel explored how various stakeholders interpret and apply these norms and discussed whether existing frameworks are still adequate for today’s complex and fragmented security environment. \nAt the same time\, the session highlighted important areas of convergence and opportunity. While technical communities and open-source developers may not explicitly engage with UN cyber norms\, their day-to-day priorities—security\, stability\, and resilience—are deeply aligned with the overarching goals of these frameworks.  \nThe Geneva Dialogue was cited as a valuable platform for bridging this gap by translating state-led commitments into shared understanding and actionable practices across stakeholder groups. Positive remarks were made about the potential of cyber norms to support international cooperation on security\, even as political\, legal\, and technical barriers continue to grow. \nThe conversation reaffirmed that while norms may originate in diplomatic forums\, their effectiveness depends on broad-based engagement—from open-source communities to governments—especially as the threat landscape continues to evolve.
URL:https://genevadialogue.ch/event/geneva-dialogue-session-at-the-global-digital-collaboration-conference-gdcc-2025/
ATTACH;FMTTYPE=image/jpeg:https://genevadialogue.ch/wp-content/uploads/GDCC-2025-featured.jpg
END:VEVENT
END:VCALENDAR